BEGIN:VCALENDAR
VERSION:2.0
PRODID:-//Palermo For Expats - ECPv6.15.20//NONSGML v1.0//EN
CALSCALE:GREGORIAN
METHOD:PUBLISH
X-WR-CALNAME:Palermo For Expats
X-ORIGINAL-URL:https://palermoforexpats.com/stag
X-WR-CALDESC:Events for Palermo For Expats
REFRESH-INTERVAL;VALUE=DURATION:PT1H
X-Robots-Tag:noindex
X-PUBLISHED-TTL:PT1H
BEGIN:VTIMEZONE
TZID:Europe/Rome
BEGIN:DAYLIGHT
TZOFFSETFROM:+0100
TZOFFSETTO:+0200
TZNAME:CEST
DTSTART:20250330T010000
END:DAYLIGHT
BEGIN:STANDARD
TZOFFSETFROM:+0200
TZOFFSETTO:+0100
TZNAME:CET
DTSTART:20251026T010000
END:STANDARD
BEGIN:DAYLIGHT
TZOFFSETFROM:+0100
TZOFFSETTO:+0200
TZNAME:CEST
DTSTART:20260329T010000
END:DAYLIGHT
BEGIN:STANDARD
TZOFFSETFROM:+0200
TZOFFSETTO:+0100
TZNAME:CET
DTSTART:20261025T010000
END:STANDARD
BEGIN:DAYLIGHT
TZOFFSETFROM:+0100
TZOFFSETTO:+0200
TZNAME:CEST
DTSTART:20270328T010000
END:DAYLIGHT
BEGIN:STANDARD
TZOFFSETFROM:+0200
TZOFFSETTO:+0100
TZNAME:CET
DTSTART:20271031T010000
END:STANDARD
END:VTIMEZONE
BEGIN:VEVENT
DTSTART;TZID=Europe/Rome:20260507T193000
DTEND;TZID=Europe/Rome:20260507T213000
DTSTAMP:20260421T182232
CREATED:20251120T154736Z
LAST-MODIFIED:20260414T234945Z
UID:10001069-1778182200-1778189400@palermoforexpats.com
SUMMARY:Italian Conversation Palermo – Nutrition & Wellness at Pablo Listening Bar
DESCRIPTION:Join Italian conversation Palermo event for a special Nutrition & Wellness edition at the cozy Pablo Listening Bar\, a vinyl-focused listening bar in the heart of Palermo.​ This evening is designed for foreigners\, expats\, and internationals who want to practice real-life Italian\, connect with like-minded people\, and explore healthy living in a relaxed\, social atmosphere.​ \nItalian Conversation Palermo – Nutrition & Wellness Evening\nThis Italian conversation Palermo event is a guided\, small-group conversation night focused on the theme of nutrition\, wellbeing\, and everyday healthy habits.​\nYou will listen to real Italian\, pick up useful vocabulary\, and have plenty of chances to speak in a supportive\, non-judgmental environment.​ \nOur special guest\, Wellness Coach Silvia Cincotta\, will share personal stories\, practical tips\, and simple routines that can inspire your own lifestyle in Palermo.​\nHer input will spark easy conversation topics\, from grocery shopping at local markets to daily routines\, sleep\, movement\, and mindful eating.​ \nWhat to Expect at Pablo Listening Bar\nThe event takes place at Pablo Listening Bar\, a record-focused listening bar and cultural spot on Via Brunetto Latini 16 in Palermo.​\nExpect high-quality music\, an intimate atmosphere\, and a relaxed setting that makes it easy to hear each other and practice Italian without stress.​ \nPablo is a listening bar that serves drinks but no food\, so you are welcome to bring your own dinner or snacks to enjoy with your drink.​\nYou simply pay for what you order at the bar\, while the Italian conversation Palermo meetup itself is free to join.​ \nWhy This Event Is Great for Expats & Internationals\nPalermo for Expats is known for creating welcoming\, friendly spaces where newcomers\, digital nomads\, students\, and long-term residents can connect.​\nThis Italian conversation Palermo evening is perfect if you want to meet people who are also building a life in the city and care about health\, balance\, and wellbeing.​ \nThe conversation topics are practical and relevant to everyday expat life: shopping at local markets\, eating out in Sicily\, staying active\, managing stress\, and building sustainable habits in a new country.​\nYou do not need perfect grammar or a big vocabulary; the focus is on communication\, listening\, and feeling more confident using Italian in real situations.​ \nWhat’s Included\n\nFree entry to the Italian conversation Palermo – Nutrition & Wellness event.​\nGuided conversation and prompts around nutrition\, lifestyle\, and wellness from the host and Wellness Coach Silvia Cincotta.​\nA relaxed\, international environment with other foreigners\, expats\, and internationals living in Palermo.​\nSupport for different levels of Italian\, with the possibility to clarify or switch briefly to English if needed.​\n\nDrinks are not included in the event and are purchased directly from the bar.​\nFood is not served by the venue\, but you are welcome to bring your own dinner or snacks to enjoy discreetly during the evening.​ \nPractical Info\n\nDate: Tuesday 25 November 2025.​\nTime: 19:30 (please arrive a few minutes early to get your drink and settle in).​\nVenue: Pablo Listening Bar\, Via Brunetto Latini 16\, Palermo.​\nPrice: Free entry for the event; you only pay for your own drinks at the bar.​\nLanguage: Mainly Italian\, with light English support for clarification when necessary.​\nLevel: From beginner (A2) to advanced; you should understand basic phrases and be willing to participate.​\nDress code: Casual and comfortable.​\nAge: 18+ only\, as the event is hosted in a bar setting.​\nPets: The venue is small and focused on listening\, so pets are generally not recommended due to limited space and noise sensitivity.​\nAccessibility: Pablo is an intimate urban space; if you have specific accessibility needs\, please contact the organizers in advance so arrangements can be discussed.​\n\nReserve Your Spot\nSpots are limited to keep the atmosphere intimate and allow everyone to participate.​\nPlease RSVP in advance to help us reserve enough space and organize balanced conversation groups by level.​ \nClick “RSVP” or secure a free ticket on the event page to confirm your attendance.​\nCome alone or with friends – most people arrive solo\, and the format makes it easy to start talking from the first minutes.​ \nMeet the Host – Palermo for Expats\nThis event is hosted by Palermo for Expats\, the largest and most active international community in Palermo\, connecting foreigners\, nomads\, students\, and locals through meetups\, cultural activities\, and social gatherings.​\nWhether you just arrived or have been here for months\, you will quickly feel part of a growing global family that calls Palermo home.​ \nThe community regularly organizes language exchanges\, social nights\, cultural events\, and day trips all tailored to expats and internationals.​\n👉 Join our WhatsApp Community to stay updated on upcoming events\, last-minute plans\, and new friends in Palermo.​ \nFAQ\nDo I need to speak fluent Italian to join?\nNo\, you do not need to be fluent\, but you should know some basic Italian and be willing to listen and try to speak.​\nThe evening is structured to support different levels\, and you can always ask for quick help or clarification in English if you get stuck.​ \nIs this event only for expats\, or can locals join too?\nThe event is designed mainly for expats\, internationals\, and foreigners living in or visiting Palermo\, but friendly locals who enjoy international company are also welcome.​ The goal is to create a mixed\, open-minded group where everyone is happy to practice Italian and share experiences.​ \nDo I have to buy a ticket or pay a fee?\nEntry to the Italian conversation Palermo – Nutrition & Wellness evening is free\, and there is no participation fee for the language part.​\nYou simply pay for any drinks you order at Pablo Listening Bar directly at the venue.​ \nWill there be food available at Pablo Listening Bar?\nPablo is a listening bar and does not serve food\, but it does offer a quality selection of drinks and Sicilian products.​\nYou are welcome to bring your own light dinner or snacks to enjoy respectfully during the event.​ \nWhat if I arrive late?\nIf you arrive a bit late\, you can still join; just enter quietly\, grab a drink\, and the host will help you find a group or table.​\nIf you expect to be more than 30 minutes late\, it is helpful to let the organizers know so they can keep a spot for you.​ \nHow do I cancel if I cannot come anymore?\nIf you reserved a free ticket or RSVP’d\, please cancel your reservation through the event page so another person can take your place.​\nYou can also send a quick message in the WhatsApp Community group so the hosts know you will not attend.​ \nExplore our Upcoming Events Calendar to discover more meetups\, language exchanges\, and activities for expats in Palermo.​\nVisit our Community Gallery to see photos and stories from past Palermo for Expats events and get a feel for the atmosphere.​
URL:https://palermoforexpats.com/stag/event/italian-conversation-palermo-nutrition-wellness/
LOCATION:Pablo\, Via Brunetto Latini\, 16\, Palermo\, 90138\, Italy
CATEGORIES:Cultural Experiences,Digital Nomads Palermo,Erasmus Events,Expats & Digital Nomads Meetup,Expats Palermo,International Community,Language Exchange,Meetup,Palermo Events,Things to Do in Palermo,Wellness
ATTACH;FMTTYPE=image/jpeg:https://palermoforexpats.com/stag/wp-content/uploads/2025/11/Italian-Conversation-Palermo.jpg
ORGANIZER;CN="Expats Living In Palermo":MAILTO:palermoerasmuslife@gmail.com
GEO:38.1229358;13.3500874
X-APPLE-STRUCTURED-LOCATION;VALUE=URI;X-ADDRESS=Pablo Via Brunetto Latini 16 Palermo 90138 Italy;X-APPLE-RADIUS=500;X-TITLE=Via Brunetto Latini\, 16:geo:13.3500874,38.1229358
END:VEVENT
BEGIN:VEVENT
DTSTART;TZID=Europe/Rome:20260520T190000
DTEND;TZID=Europe/Rome:20260520T203000
DTSTAMP:20260421T182232
CREATED:20251104T100408Z
LAST-MODIFIED:20260409T070558Z
UID:10001050-1779303600-1779309000@palermoforexpats.com
SUMMARY:Book Club Palermo – November 2025: The Country of the Blind & The Man Who Could Imitate a Bee
DESCRIPTION:Join our Book Club Palermo November 2025 edition — a cozy\, international evening at Kalós. Parentesi letteraria in the heart of Palermo. On Friday\, November 28 at 7:00 PM\, expats\, locals\, and book lovers will gather to discuss two captivating short stories: “The Country of the Blind” by H. G. Wells and “The Man Who Could Imitate a Bee” by Richard Connell. Whether you’ve read both or none\, you’re welcome to join an open and inspiring conversation filled with ideas\, culture\, and community spirit. \nWhat to Expect at Book Club Palermo November 2025\nThe Book Club Palermo November 2025 edition invites readers to explore two fascinating short stories that question human nature\, perception\, and the limits of understanding. You’ll share reflections\, laugh\, and connect with fellow expats and locals who share your curiosity for storytelling and cultural exchange. \nThis is a friendly and informal meet-up — no lectures\, no pressure\, just genuine conversations over coffee or a glass of wine. The evening usually lasts about 1 to 1.5 hours\, making it a perfect way to unwind after the week. \nWhy Join as an Expat in Palermo\nIf you’re new to the city or living here for a few months\, the Book Club Palermo November 2025 is a great way to meet open-minded people and practice English or Italian in a relaxed\, creative setting.\n🌍 Community & Friendship – Build meaningful connections with fellow internationals.\n🗣️ Cultural Exchange – Explore literature from different perspectives and backgrounds.\n🍷 Good Vibes – Enjoy a welcoming\, café-style evening filled with laughter and ideas. \nMeet the Host\nThis event is hosted by Palermo for Expats\, the largest and most active international community in Palermo. We connect foreigners\, nomads\, students\, and locals through meetups\, cultural activities\, and social gatherings. Whether you just arrived or have been here for months\, you’ll instantly feel part of our growing global family.\n👉 Join Our WhatsApp Community \nWhat’s Included\n✅ Entrance to the book club discussion\n☕ Coffee\, tea\, or wine available for purchase on-site\n💬 Guided discussion in English\n📚 Access to reading materials and short story links before the meeting \nPractical Info\n📅 Date: Friday\, November 28\, 2025\n🕖 Time: 7:00 PM – 8:30 PM\n📍 Location: Kalós. Parentesi letteraria — Via Riccardo Wagner\, 9a\, Palermo\n🎟️ Price: Free entry (RSVP required to reserve your spot)\n🗣️ Language: English\n👥 Who can join: Expats\, students\, locals\, and internationals — everyone is welcome!\n💡 What to bring: Just your curiosity and an open mind \nReserve Your Spot\nSpaces are limited! RSVP now to join one of Palermo’s friendliest international meetups. Don’t worry if you haven’t read both stories — come for the conversation\, stay for the community. \nFAQ\nDo I need to read the stories before coming? \nNot at all! You can join even if you haven’t read them. We’ll give a short recap before starting the discussion. \nIs the Book Club only for expats? \nNo — locals and Italians who enjoy international company are very welcome! \nWhat language will we speak? \nMostly English\, with a friendly and inclusive atmosphere for all language levels. \nHow do I RSVP? \nJust click “RSVP” on this page or through our Upcoming Events Calendar to secure your spot. \nCan I bring a friend? \nOf course! Just make sure each person RSVPs so we can manage seating. \nLooking for more creative and community experiences in Palermo?\n👉 Explore our Upcoming Events Calendar to see what’s happening next in the expat community — from workshops to social meetups and sports activities. \n📸 Want to see what our gatherings look like?\nVisit our Community Gallery and get a glimpse of the vibrant expat life in Palermo!
URL:https://palermoforexpats.com/stag/event/book-club-palermo-november-2025/
LOCATION:Kalos Parentesi Letteraria\, Via Riccardo Wagner\, 9a\, Palermo\, 90139\, Italy
CATEGORIES:Book Club,Cultural Experiences,Digital Nomads Palermo,Erasmus Events,Expats & Digital Nomads Meetup,Expats Palermo,International Community,Meetup,Palermo Events,Things to Do in Palermo
ATTACH;FMTTYPE=image/jpeg:https://palermoforexpats.com/stag/wp-content/uploads/2025/09/Book-Club-Palermo-September-Jhumpa-Lahiri-Ps-Parties-event-poster.jpg
ORGANIZER;CN="Expats Living In Palermo":MAILTO:palermoerasmuslife@gmail.com
GEO:38.1246282;13.3583105
X-APPLE-STRUCTURED-LOCATION;VALUE=URI;X-ADDRESS=Kalos Parentesi Letteraria Via Riccardo Wagner 9a Palermo 90139 Italy;X-APPLE-RADIUS=500;X-TITLE=Via Riccardo Wagner\, 9a:geo:13.3583105,38.1246282
END:VEVENT
BEGIN:VEVENT
DTSTART;TZID=Europe/Rome:20260619T190000
DTEND;TZID=Europe/Rome:20260619T203000
DTSTAMP:20260421T182232
CREATED:20260414T233548Z
LAST-MODIFIED:20260414T233615Z
UID:10001084-1781895600-1781901000@palermoforexpats.com
SUMMARY:Book Club Palermo – November 2025: The Country of the Blind & The Man Who Could Imitate a Bee
DESCRIPTION:Join our Book Club Palermo November 2025 edition — a cozy\, international evening at Kalós. Parentesi letteraria in the heart of Palermo. On Friday\, November 28 at 7:00 PM\, expats\, locals\, and book lovers will gather to discuss two captivating short stories: “The Country of the Blind” by H. G. Wells and “The Man Who Could Imitate a Bee” by Richard Connell. Whether you’ve read both or none\, you’re welcome to join an open and inspiring conversation filled with ideas\, culture\, and community spirit. \nWhat to Expect at Book Club Palermo November 2025\nThe Book Club Palermo November 2025 edition invites readers to explore two fascinating short stories that question human nature\, perception\, and the limits of understanding. You’ll share reflections\, laugh\, and connect with fellow expats and locals who share your curiosity for storytelling and cultural exchange. \nThis is a friendly and informal meet-up — no lectures\, no pressure\, just genuine conversations over coffee or a glass of wine. The evening usually lasts about 1 to 1.5 hours\, making it a perfect way to unwind after the week. \nWhy Join as an Expat in Palermo\nIf you’re new to the city or living here for a few months\, the Book Club Palermo November 2025 is a great way to meet open-minded people and practice English or Italian in a relaxed\, creative setting.\n🌍 Community & Friendship – Build meaningful connections with fellow internationals.\n🗣️ Cultural Exchange – Explore literature from different perspectives and backgrounds.\n🍷 Good Vibes – Enjoy a welcoming\, café-style evening filled with laughter and ideas. \nMeet the Host\nThis event is hosted by Palermo for Expats\, the largest and most active international community in Palermo. We connect foreigners\, nomads\, students\, and locals through meetups\, cultural activities\, and social gatherings. Whether you just arrived or have been here for months\, you’ll instantly feel part of our growing global family.\n👉 Join Our WhatsApp Community \nWhat’s Included\n✅ Entrance to the book club discussion\n☕ Coffee\, tea\, or wine available for purchase on-site\n💬 Guided discussion in English\n📚 Access to reading materials and short story links before the meeting \nPractical Info\n📅 Date: Friday\, November 28\, 2025\n🕖 Time: 7:00 PM – 8:30 PM\n📍 Location: Kalós. Parentesi letteraria — Via Riccardo Wagner\, 9a\, Palermo\n🎟️ Price: Free entry (RSVP required to reserve your spot)\n🗣️ Language: English\n👥 Who can join: Expats\, students\, locals\, and internationals — everyone is welcome!\n💡 What to bring: Just your curiosity and an open mind \nReserve Your Spot\nSpaces are limited! RSVP now to join one of Palermo’s friendliest international meetups. Don’t worry if you haven’t read both stories — come for the conversation\, stay for the community. \nFAQ\nDo I need to read the stories before coming? \nNot at all! You can join even if you haven’t read them. We’ll give a short recap before starting the discussion. \nIs the Book Club only for expats? \nNo — locals and Italians who enjoy international company are very welcome! \nWhat language will we speak? \nMostly English\, with a friendly and inclusive atmosphere for all language levels. \nHow do I RSVP? \nJust click “RSVP” on this page or through our Upcoming Events Calendar to secure your spot. \nCan I bring a friend? \nOf course! Just make sure each person RSVPs so we can manage seating. \nLooking for more creative and community experiences in Palermo?\n👉 Explore our Upcoming Events Calendar to see what’s happening next in the expat community — from workshops to social meetups and sports activities. \n📸 Want to see what our gatherings look like?\nVisit our Community Gallery and get a glimpse of the vibrant expat life in Palermo!
URL:https://palermoforexpats.com/stag/event/book-club-palermo-november-2025-the-country-of-the-blind-the-man-who-could-imitate-a-bee/
LOCATION:Kalos Parentesi Letteraria\, Via Riccardo Wagner\, 9a\, Palermo\, 90139\, Italy
CATEGORIES:Book Club,Cultural Experiences,Digital Nomads Palermo,Erasmus Events,Expats & Digital Nomads Meetup,Expats Palermo,International Community,Meetup,Palermo Events,Things to Do in Palermo
ATTACH;FMTTYPE=image/jpeg:https://palermoforexpats.com/stag/wp-content/uploads/2025/09/Book-Club-Palermo-September-Jhumpa-Lahiri-Ps-Parties-event-poster.jpg
ORGANIZER;CN="Expats Living In Palermo":MAILTO:palermoerasmuslife@gmail.com
GEO:38.1246282;13.3583105
X-APPLE-STRUCTURED-LOCATION;VALUE=URI;X-ADDRESS=Kalos Parentesi Letteraria Via Riccardo Wagner 9a Palermo 90139 Italy;X-APPLE-RADIUS=500;X-TITLE=Via Riccardo Wagner\, 9a:geo:13.3583105,38.1246282
END:VEVENT
END:VCALENDAR